BEGIN:VCALENDAR
VERSION:2.0
PRODID:-//https://www.wfg-rhein-erft.de///NONSGML kigkonsult.se iCalcreator 2.10.15//
METHOD:PUBLISH
BEGIN:VEVENT
UID:20260421T101626CEST-4713ewceiu@https://www.wfg-rhein-erft.de/
DTSTAMP:20260421T081626Z
DESCRIPTION:Der Landrat des Rhein-Erft-Kreises und die Wirtschaftsförderung
  Rhein-Erft GmbH laden Sie ein zum Digital Summit: Offizielle Eröffnungsfe
 ier der Digitalen Woche Rhein-Erft\nam Montag\, 4. September 2023\nin der 
 JCB Halle\, Europaallee 113a\, 50226 Frechen.\nProgramm:\n\n16:30 Uhr Einl
 ass\, Workshops\nWorkshop 1: Der Weg zum hybriden Business. Mit Marco Bell
 of\, VS Apps GmbHWorkshop 2: Vorstellung des Masterplans Digitalparks im R
 hein-Kreis-Neuss und im Rhein-Erft-Kreis\, Drees & Sommer\n\n17:30 Uhr Net
 working\n18:00 Uhr Beginn Programm offizielle Eröffnungsfeier\n\nFrank Roc
 k\, Landrat des Rhein-Erft-Kreises\, wird als Schirmherr den Startschuss f
 ür die Digitale Woche Rhein-Erft 2023 abgeben.Im Rahmen der Feier wird er 
 auch die Sieger der “Rhein-Erft Coding Challenge: Der Schulhackathon” vom 
 Vormittag auszeichnen.\nAnreise mit ÖPNVS-Bahn oder KVB Linie 1 bis (H) We
 iden-West\, weiter mit Bus 965 (9 Min.) zur Haltestelle Frechen Euro Park/
 Nord und von dort 5 min. FußwegKVB Linie 7 bis (H) Frechen Rathaus\, weite
 r 11 min. Bus 965 (H) Frechen Europark Lekkerland11 min. Fußweg von Haltes
 telle Frechen Gut Neuenhof Bus 145\, 960/9765 min. Fußweg von Haltestelle 
 Frechen Europark Lekkerland Bus 9655 min. Fußweg von Haltestelle Frechen E
 uro Park/Nord Bus 965\, 976\nAnreise mit PKWCa. 100 kostenfreie Parkplätze
  sind vor dem Gebäude vorhanden. Weitere kostenfreie Parkplätze befinden s
 ich in den angrenzenden Straßen.\n  https://www.wfg-rhein-erft.de/news/ter
 min/event/240-digital-summit-eroeffnungsfeier-dwre
DTSTART:20230904T160000Z
DTEND:20230904T183000Z
LOCATION:Europaallee 113a\, 50226 Frechen ()
SUMMARY:Digital Summit/Eröffnungsfeier DWRE
URL:https://www.wfg-rhein-erft.de/news/termin/event/240-digital-summit-eroe
 ffnungsfeier-dwre
END:VEVENT
END:VCALENDAR
