BEGIN:VCALENDAR
VERSION:2.0
PRODID:-//https://www.wfg-rhein-erft.de///NONSGML kigkonsult.se iCalcreator 2.10.15//
METHOD:PUBLISH
BEGIN:VEVENT
UID:20260423T223545CEST-3164gC9ZUn@https://www.wfg-rhein-erft.de/
DTSTAMP:20260423T203545Z
DESCRIPTION:'More Profit\, same Effort: Geschäftsmodell-Skalierung von IT-U
 nternehmen“\nDreimal jährlich treffen sich die Führungskräfte der IT-Wirts
 chaft aus dem Rhein-Erft-Kreis und der Region beim „Treffen Netzwerk Digit
 al Rhein-Erft“. Der Arbeitstitel des nächsten Treffens am Freitag\, 15.03.
 2024 um 15.00 Uhr lautet: „More Profit\, same Effort: Geschäftsmodell-Skal
 ierung von IT-Unternehmen“  Wenn Sie zum Thema etwas beitragen können oder
  sich als Netzwerkpartner vorstellen wollen\, senden Sie gerne eine Mail a
 n mfr@wfg-rhein-erft.de  Das Netzwerk wurde nach der Digitalen Woche 2021 
 durch uns ins Leben gerufen. Seither finden bei spannenden IT-Unternehmen 
 regelmäßige Treffen von Digitalisierungs-Leadern aus dem Rhein-Erft-Kreis 
 statt. Im Mittelpunkt stehen Vernetzung\, Impulse zu Themen\, die Digitalu
 nternehmen beschäftigen sowie Zusammenarbeit und „After Work“ Entspannung.
 \nBei unserem erfolgreichen Networking-Format treffen sich Digitalisierer\
 , IT-Entscheider und Unternehmerinnen und Unternehmern aus der Region zum 
 Erfahrungsaustausch bei Limo\, Kölsch und Snacks. Dazu gibt uns der Hambur
 ger Experte Eric Osselmann von den Scaling Champions einen interessanten I
 nput: mit welchen Strategien lässt sich das Geschäft von IT-Unternehmen au
 f einen profitablen Wachstumskurs trimmen? Außerdem erhalten Sie die Mögli
 chkeit zur Besichtigung des neu eröffneten BusinessCenter Frechen – dem er
 sten Seminar- und Coworking-Spaces im Rheinland mit Rooftop-Basketball-Cou
 rt und Domblick.  \nAnmeldung: über den Butten 'Teilnehmen'\nParkmöglichke
 it in der Tiefgarage\, Zufahrt über die Johannissstraße\, von dort Zugang 
 über Treppenhaus GREEN.Wir würden uns freuen\, zusammen mit Ihnen und weit
 eren Akteuren die Digitalisierung im Rhein-Erft-Kreis einen weiteren Schri
 tt voran zu bringen. Diese Einladung können Sie auch an Kolleginnen und Ko
 llegen sowie weitere Interessierte weiterleiten.\nFür weitere Informatione
 n wenden Sie sich an:\nMichael Frenzel Projektleiter Digitalisierung Tel.:
  +49 22 71 / 99 4 99 - 14 E-Mail: mfr@wfg-rhein-erft.de https://www.wfg-rh
 ein-erft.de/news/termin/event/260-5-treffen-netzwerk-digital-rhein-erft
DTSTART:20240315T140000Z
DTEND:20240315T173000Z
LOCATION:Alfred-Nobel-Straße 29\, 50226 Frechen.  ()
SUMMARY:5. Treffen Netzwerk Digital Rhein-Erft  
URL:https://www.wfg-rhein-erft.de/news/termin/event/260-5-treffen-netzwerk-
 digital-rhein-erft
END:VEVENT
END:VCALENDAR
