BEGIN:VCALENDAR
VERSION:2.0
PRODID:-//https://www.wfg-rhein-erft.de///NONSGML kigkonsult.se iCalcreator 2.10.15//
METHOD:PUBLISH
BEGIN:VEVENT
UID:20260422T163409CEST-1939H6wZnK@https://www.wfg-rhein-erft.de/
DTSTAMP:20260422T143409Z
DESCRIPTION:START HÜRTH und das AI Village laden speziell Hürther Unternehm
 en herzlich ein an der mittlerweile dritten Veranstaltung der Reihe „TechF
 orum Hürth: Mittelstand & Technologie“ teilzunehmen.   Es erwarten Sie spa
 nnende Themen rund um Künstliche Intelligenz sowie deren Einsatz und Imple
 mentierung in Unternehmen. WANN: 23.06.2026\, 15:00 - 18:30 h   WO: AI Vil
 lage\, An der Hasenkaule 10\, Studio 6\, euronova Campus\, 50354 Hürth  Pa
 rtner und Unterstützer:  • AI Village   • AWH   • IDiTech e.V.   • Stadt H
 ürth - Wirtschaftsförderung \n  \nProgramm:Eintreffen: 15:00 h Begrüßung: 
 15:10 - 15:20 h   Begrüßung durch Matthias Neugebauer\, Geschäftsführer de
 r START HÜRTH GmbH\, und Alexander Opitz\, Projektleiter des AI Village.  
 Die Moderation übernimmt Elnaz Abbaspour aus dem AI Village. Vortrag 1: 15
 :20 - 15:50 hProf. Wolfgang Prinz\, Blockchain Reallabor Titel: Wie erstel
 le ich aus meinen Daten einen eigenen persönlichen Assistenten Vortrag 2: 
 15:50 - 16:10 hStephan Harms & Daniel Kuhn\, Geschäftsführung navacom IT S
 olutions GmbH & Co. KG Titel: KI? Sehr gern. Aber selbstgemacht!Vortrag 3:
  16:10 - 16:30 hStefanie Krüll Titel: Die visuelle Transformation - KI-Bil
 dgenerierung als strategischer Hebel in Marketing und Kommunikation Networ
 king: 16:30 - 18:00 h Anmeldung: Die Teilnahme ist kostenlos. Bitte melden
  Sie sich hier verbindlich an.Anreise/Parken: AI Village (Studio 6)\, euro
 nova Campus\, An der Hasenkaule 10\, 50354 Hürth  Der Besucherparkplatz be
 findet sich auf der Hans-Böckler-Straße 174\, 50354 Hürth   Wichtig: Auf d
 em Parkplatz ist nur Münzzahlung möglich.  Hinweis zu Foto- und Videoaufna
 hmen: Im Rahmen dieser Veranstaltung werden durch die Veranstalterin bzw. 
 den Veranstalter oder durch von ihr/ihm beauftragte Personen Foto- und Vid
 eoaufnahmen angefertigt. Mit dem Betreten der Veranstaltungsräumlichkeiten
  erklären sich Teilnehmende damit einverstanden\, dass sie auf diesen Aufn
 ahmen abgebildet sein können. Das Bild- und Tonmaterial kann zu Zwecken de
 r Dokumentation sowie der Öffentlichkeitsarbeit der Veranstalterin/des Ver
 anstalters verwendet und in Printmedien\, auf Internetseiten sowie in sozi
 alen Netzwerken veröffentlicht werden. Rechtsgrundlage für die Verarbeitun
 g der Bild- und Tonaufnahmen ist Art. 6 Abs. 1 lit. f DSGVO. Sollten Sie n
 icht wünschen\, dass Aufnahmen Ihrer Person veröffentlicht werden\, bitten
  wir Sie\, dies dem Foto- oder Videoteam vorab vor Ort mitzuteilen.\n \n 
 \n \n \n  https://www.wfg-rhein-erft.de/news/termin/event/330-techforum-hu
 erth-mittelstand-technologie
DTSTART:20260623T130000Z
DTEND:20260623T163000Z
LOCATION:euronova CAMPUS (An der Hasenkaule 10\, 50354\, Hürth\, Nordrhein-
 Westfalen)
SUMMARY:TechForum Hürth: Mittelstand & Technologie
URL:https://www.wfg-rhein-erft.de/news/termin/event/330-techforum-huerth-mi
 ttelstand-technologie
END:VEVENT
END:VCALENDAR
