BEGIN:VCALENDAR
VERSION:2.0
PRODID:-//https://www.wfg-rhein-erft.de///NONSGML kigkonsult.se iCalcreator 2.10.15//
METHOD:PUBLISH
BEGIN:VEVENT
UID:20260423T111548CEST-4361EcIXS9@https://www.wfg-rhein-erft.de/
DTSTAMP:20260423T091548Z
DESCRIPTION: \nDie Wirtschaftsförderung Rhein-Erft GmbH und ihre Partner la
 den Sie ein zum\n4. Treffen „Netzwerk Digital Rhein-Erft“ meets netable Af
 ter Hour im Köbes Format \nZum „Bergfest“ der Digitalen Woche Rhein-Erft 2
 023 treffen sich Digitalisierer\, IT-Techniker und Unternehmer aus der Reg
 ion im Frechener netable IT Systemhaus von Inhaber Volker Frank. Die Veran
 staltung ist zugleich das 2. netable After Hour Netzwerk Event im Köbes Fo
 rmat.\n\nVortrag von Michael Rohrlich\, zertifizierter Datenschutzauditor 
 der Firma Haufe\nErfahrungsbericht zu Identitätsdiebstahl und Folgen von D
 atenpannen im Unternehmen von Volker Frank\nOffene Fragerunde\n\nSie erhal
 ten bei Limo\, Kölsch und Snacks die Gelegenheit zum Netzwerken und zum Er
 fahrungsaustausch mit interessanten Unternehmerinnen und Unternehmern aus 
 der Internet- und IT-Wirtschaft.\nWir würden uns freuen\, zusammen mit Ihn
 en und weiteren Akteuren die Digitalisierung im Rhein-Erft-Kreis einen wei
 teren Schritt voran zu bringen. Diese Einladung können Sie auch an Kollegi
 nnen und Kollegen sowie weitere Interessierte weiterleiten.\nAnmeldung: üb
 er den Butten 'Teilnehmen'\nFür weitere Informationen wenden Sie sich an:
 \nMichael Frenzel Projektleiter Digitalisierung Tel.: +49 22 71 / 99 4 99 
 - 14 E-Mail: mfr@wfg-rhein-erft.de https://www.wfg-rhein-erft.de/news/term
 ine/event/241-4-treffen-netzwerk-digital-rhein-erft-meets-netable-after-ho
 ur-im-koebes-format
DTSTART:20230906T160000Z
DTEND:20230906T183000Z
LOCATION:Albert-Einstein-Str. 18\, 50226 Frechen.  ()
SUMMARY:4. Treffen „Netzwerk Digital Rhein-Erft“  meets netable After Hour 
 im Köbes Format
URL:https://www.wfg-rhein-erft.de/news/termine/event/241-4-treffen-netzwerk
 -digital-rhein-erft-meets-netable-after-hour-im-koebes-format
END:VEVENT
END:VCALENDAR
