BEGIN:VCALENDAR
VERSION:2.0
PRODID:-//https://www.wfg-rhein-erft.de///NONSGML kigkonsult.se iCalcreator 2.10.15//
METHOD:PUBLISH
BEGIN:VEVENT
UID:20260422T185835CEST-0245uj2JkZ@https://www.wfg-rhein-erft.de/
DTSTAMP:20260422T165835Z
DESCRIPTION:Die Digitalisierung ist branchenübergreifend ein wichtiges Them
 a\, in vielen Betrieben und Unternehmen eine Herausforderung. Ob verarbeit
 ende Industrie oder Handwerk\, ob Gastronomie\, Hotellerie oder andere Die
 nstleistungsgewerbe\, ob Zulieferbetrieb oder lange ansässiges Familienunt
 ernehmen – gerade der Mittelstand sieht sich nicht selten einer enormen Au
 fgabe gegenübergestellt.\nBeschäftigte Ihres Unternehmens werden in einer 
 sechsteiligen Workshop-Reihe zum „Digital Scout“ qualifiziert. Sie sind kü
 nftig Ihre Aufklärer und Wegbereiter\, die die Digitalisierung für Ihr Unt
 ernehmen in die Wege leiten und gestalten wollen. Geplante Schwerpunktthem
 en der Workshops sind z. B. Change 4.0\, KI und Datennutzung\, Digitale Si
 cherheit\, Nachhaltigkeit durch Digitalisierung sowie Fördermöglichkeiten 
 für die Digitalisierung (u.a. am Praxisbeispiel Chatbot).\nWorkshop-Termin
 :1. Workshop\, 12.10.2023Thema: Daten erfassen und nutzen: Eine Reise durc
 h die Welt der Digitalisierung\n\nGrundlagenvortrag und Microtraining zum 
 Thema Daten erfassen\, speichern\, auswerten und nutzen\nImpuls IoT / Inte
 rnet of Things/Internet der Dinge\nWorkshop IoT: Aufbau der Kommunikation 
 in Unternehmen zur 'digitalen Lagerbestandsüberwachung und Visualisierung 
 von Auftragsprozessen“ mit Mikrocontrollern und verschiedenen Sensoren\n\n
 Referenten: Jan-Niklas Oberlies\, Daniel Caspar (Mittelstand-Digital Zentr
 um Rheinland)\nInhaltliche Änderungen der Workshops vorbehalten.\nMelden S
 ie sich hier kostenfrei zu der Workshopreihe (mit Kickoff-Infoveranstaltun
 g) an: https://www.wfg-rhein-erft.de/news/termine/event/242-kickoff-infove
 ranstaltung-zur-workshopreihe-digital-scouts\n Die Workshops sind nur als 
 Gesamtpaket und personengebunden buchbar! Die Anzahl an Teilnehmenden ist 
 begrenzt.\nDie Workshopreihe 'Digital Scouts' wird von der Wirtschaftsförd
 erung Rhein-Erft GmbH\, der Regionalagentur Region Köln\, dem Mittelstand-
 Digital Zentrum Rheinland sowie dem Mittelstand-Digital Zentrum WertNetzWe
 rke angeboten. https://www.wfg-rhein-erft.de/news/termine/event/243-1-term
 in-der-workshopreihe-digital-scouts-daten-erfassen-und-nutzen-eine-reise-d
 urch-die-welt-der-digitalisierung
DTSTART:20231012T133000Z
DTEND:20231012T163000Z
LOCATION:Wirtschaftsförderung Rhein-Erft GmbH (Sportparkstraße 4\, 50126\, 
 Bergheim\, Nordrhein-Westfalen)
SUMMARY:1.Termin der Workshopreihe 'Digital Scouts': Daten erfassen und nut
 zen: Eine Reise durch die Welt der Digitalisierung
URL:https://www.wfg-rhein-erft.de/news/termine/event/243-1-termin-der-works
 hopreihe-digital-scouts-daten-erfassen-und-nutzen-eine-reise-durch-die-wel
 t-der-digitalisierung
END:VEVENT
END:VCALENDAR
