BEGIN:VCALENDAR
VERSION:2.0
PRODID:-//https://www.wfg-rhein-erft.de///NONSGML kigkonsult.se iCalcreator 2.10.15//
METHOD:PUBLISH
BEGIN:VEVENT
UID:20260423T110559CEST-9870JjjbCl@https://www.wfg-rhein-erft.de/
DTSTAMP:20260423T090559Z
DESCRIPTION:Schnupper-Workshop „Agile Methoden – Wie kann Agilität helfen\,
  die Fachkräftegewinnung zu unterstützen?“ \nDamit Sie den stetig wachsend
 en Herausforderungen im Bereich Fachkräftegewinnung und Arbeitsgebermarken
 entwicklung zukünftig noch besser begegnen können\, bieten wir Ihnen zusam
 men mit der Firma CONTIO aus Düsseldorf einen kostenfreien und kompakten W
 orkshop zum Thema „Agile Methoden – Wie kann Agilität helfen\, die Fachkrä
 ftegewinnung zu unterstützen?“ an.\nWas Sie erwartet:  In diesem Workshop 
 wird von der CONTIO GmbH ein Werkzeugkoffer vorgestellt\, der zeigt\, wie 
 man Herausforderungen löst\, Projekte managt und Produkte einführt und ver
 waltet – basierend auf den Methoden führender Vordenker der modernen Arbei
 tswelt.\nIhr konkreter Nutzen: In zwei Stunden vermitteln wir eine grobe Ü
 bersicht über die Einsatzmöglichkeiten agiler Methoden und erproben diesen
  an einem konkreten Beispiel aus dem Bereich Fachkräftegewinnung.\nNutzen 
 Sie unseren Workshop – bringen Sie sich und Ihr Unternehmen weiter. Der Wo
 rkshop ist auf 20 Personen begrenzt. Die Plätze werden nach Anmeldeeingang
  vergeben (1 Platz pro Unternehmen).\nProgramm 15:45 Uhr: Check-in\n16:00 
 Uhr: Beginn\n\nPraxis: Ideation als agile Problemlösungs-Methode\nPraxis: 
 klassisches und agiles Projektmanagement\n\n\nWie kann Agilität bei der Fa
 chkräftegewinnung helfen? Generation XYZ und ihre Bedürfnisse an die Arbei
 tswelt\n\n18:00 Uhr: Abschluss & Networking\nWORKSHOPMODERATION: Sven Henn
 emann\, CONTIO GMBH\nFür Rückfragen jeglicher Art stehen wir Ihnen gerne z
 ur Verfügung: Dr. Sebastian Moritz (02271 9949916\; E-Mail: smo@wfg-rhein-
 erft.de)\, David Schevardo (02271 9949915\; E-Mail: dsc@wfg-rhein-erft.de)
 . https://www.wfg-rhein-erft.de/news/termine/event/288-agile-methoden---wi
 e-kann-agilitaet-helfen-die-fachkraeftegewinnung-zu-unterstuetzen
DTSTART:20250319T150000Z
DTEND:20250319T170000Z
LOCATION:Abtei Brauweiler\, Äbtesaal (Ehrenfriedstraße 19\, 50259\, Pulheim
 \, Brauweiler\, Nordrhein-Westfalen)
SUMMARY:Agile Methoden – Wie kann Agilität helfen\, die Fachkräftegewinnung
  zu unterstützen?
URL:https://www.wfg-rhein-erft.de/news/termine/event/288-agile-methoden---w
 ie-kann-agilitaet-helfen-die-fachkraeftegewinnung-zu-unterstuetzen
END:VEVENT
END:VCALENDAR
